BEGIN:VCALENDAR
VERSION:2.0
PRODID:-//Cook County Commissioner Kevin B. Morrison, District 15 - ECPv6.15.20//NONSGML v1.0//EN
CALSCALE:GREGORIAN
METHOD:PUBLISH
X-WR-CALNAME:Cook County Commissioner Kevin B. Morrison, District 15
X-ORIGINAL-URL:https://commissionerkevinbmorrison.org
X-WR-CALDESC:Events for Cook County Commissioner Kevin B. Morrison, District 15
REFRESH-INTERVAL;VALUE=DURATION:PT1H
X-Robots-Tag:noindex
X-PUBLISHED-TTL:PT1H
BEGIN:VTIMEZONE
TZID:UTC
BEGIN:STANDARD
TZOFFSETFROM:+0000
TZOFFSETTO:+0000
TZNAME:UTC
DTSTART:20220101T000000
END:STANDARD
END:VTIMEZONE
BEGIN:VEVENT
DTSTART;TZID=UTC:20230826T120000
DTEND;TZID=UTC:20230826T140000
DTSTAMP:20260421T095019
CREATED:20230811T194734Z
LAST-MODIFIED:20230811T194734Z
UID:1718-1693051200-1693058400@commissionerkevinbmorrison.org
SUMMARY:Environmental Resource Fair 2023
DESCRIPTION:Cook County Commissioner Kevin Morrison to host free in-person Environmental Resource Fair   \nFair will feature family-friendly activities aimed at helping people make their communities greener\, cleaner\, and more sustainable  \nSCHAUMBURG\, Ill. – Aug\, 15th\, 2023 – Cook County Commissioner Kevin Morrison (District 15) will host a free in-person Environmental Resource Fair on Saturday\, Aug. 26th\, from noon to 2 p.m. to help Cook County residents learn how to protect the environment. The fair will be held at Rahlfs Woods (1350 S Park Ave\, Streamwood\, IL 60107) and feature a wide variety of family-friendly events and activities.  \n“As we continue to see the effects of climate change worsening\, we all must do our part to protect the environment and work toward a greener future\,” Commissioner Morrison said. “Whether it’s learning about solar panels\, monarchs and pollinators\, or how to save money on energy bills\, the Environmental Resource Fair will have something for everyone. We can provide people with the knowledge they need to make their communities more sustainable.” \nEach co-sponsor will have a table set up with information and activities. The fair is co-sponsored by Metropolitan Water Reclamation District Commissioner Eira Corral Sepúlveda\, Poplar Creek Library District\, Streamwood Park District\, the Cook County Department of Environment and Sustainability\, the Cook County MEDS Disposal Initiative\, Ride Illinois\, Schaumburg Monarch Initiative\, Trickster Cultural Center\, the Village of Streamwood.  \nThe fair will be held inside the Poplar Creek Library if there is inclement weather.  \nEvents and activities will include:  \n\nCook County Department of Environment and Sustainability: will have information on EVs\, Energy Efficiency\, Recycling and the Pledge to Conserve Cook with giveaways. \n\n\nCook County MEDS Disposal Initiative: brochures in a variety of languages about how and where to properly dispose of expired or unused medications\, so they don’t end up in our landfills. \nMWRD: to provide Tree saplings\, Milkweeds\, “Where Does It Go” Children’s Book (English\, Spanish\, Chinese versions)\, Rain barrels\, Agency Overview magazine\, Doing Business with MWRD pamphlet\, Hand sanitizers\, and sunglasses. \nPoplar Creek Public Library: Provide a bibliography of books on the environment. \nRide Ilinois: will provide materials such as cards with info about their BikeSafetyQuiz. \nStreamwood Park District: Will be passing out free litter pickers and reusable bags\, along with some hands-on activities showing the impact of plastic use/littering. \n\n\nSchaumburg Monarch Initiative: Learn how to support Monarch Butterflies. \nMy office will be helping distribute Native plant seeds along with ‘how to draw a bird’ pamphlets/instructions\, and Chicago Wilderness species of concern templates to color. 
URL:https://commissionerkevinbmorrison.org/event/environmental-resource-fair-2023/
LOCATION:Rahlf’s Woods\, 1350 South Park Avenue\, Streamwood\, IL\, 60107
CATEGORIES:General Event,Outdoor Fun
ATTACH;FMTTYPE=image/png:https://commissionerkevinbmorrison.org/wp-content/uploads/2023/08/2023-4.png
ORGANIZER;CN="Commissioner Kevin Morrison":MAILTO:district15@cookcountyil.gov
END:VEVENT
END:VCALENDAR